BEGIN:VCALENDAR
VERSION:2.0
PRODID:-//Tukios.com/
BEGIN:VEVENT
UID:636dc3b3-a5a3-443e-9e1d-db42833277ba@www.freemanfh.com
DTSTAMP:20260424T230544Z
DTSTART:20260426T193000Z
DTEND:20260426T203000Z
SUMMARY:Graveside Service
DESCRIPTION:
URL:https://www.freemanfh.com/obituaries/virgil-davis
LOCATION:White House Cemetery 11 Davis Singleterry Rd  Waynesboro MS 
	39367
GEO:31.5929254;-88.6736649
END:VEVENT
END:VCALENDAR