BEGIN:VCALENDAR
VERSION:2.0
PRODID:-//Tukios.com/
BEGIN:VEVENT
UID:c6274df0-24e7-4740-993a-dd1e92f1225b@www.freemanfh.com
DTSTAMP:20260424T230502Z
DTSTART:20260426T170000Z
DTEND:20260426T190000Z
SUMMARY:Visitation
DESCRIPTION:
URL:https://www.freemanfh.com/obituaries/virgil-davis
LOCATION:Freeman Funeral Home 1305 Skyland Drive P. O. Box 387 Waynesboro 
	MS 39367
GEO:31.6863533;-88.6405723
END:VEVENT
END:VCALENDAR