BEGIN:VCALENDAR
VERSION:2.0
PRODID:-//Tukios.com/
BEGIN:VEVENT
UID:d8922e58-a278-4dbf-a977-65db6af985cd@www.freemanfh.com
DTSTAMP:20260420T010101Z
DTSTART:20260425T170000Z
DTEND:20260425T180000Z
SUMMARY:Funeral Service
DESCRIPTION:
URL:https://www.freemanfh.com/obituaries/roger-neumann
LOCATION:Flat Branch Church 263 Sam Sullivan Road  Millry AL 36558
GEO:31.6034102;-88.4496864
END:VEVENT
END:VCALENDAR