BEGIN:VCALENDAR
VERSION:2.0
PRODID:-//Tukios.com/
BEGIN:VEVENT
UID:859ea4e4-2184-4a3d-8857-bf4cc0e56e40@www.freemanfh.com
DTSTAMP:20260420T010422Z
DTSTART:20260425T150000Z
DTEND:20260425T170000Z
SUMMARY:Visitation
DESCRIPTION:
URL:https://www.freemanfh.com/obituaries/roger-neumann
LOCATION:Flat Branch Church 263 Sam Sullivan Road  Millry AL 36558
GEO:31.6034102;-88.4496864
END:VEVENT
END:VCALENDAR