BEGIN:VCALENDAR
VERSION:2.0
PRODID:-//Tukios.com/
BEGIN:VEVENT
UID:3fd5a9b7-73df-47a2-af58-0e42934633a3@www.freemanfh.com
DTSTAMP:20260421T223345Z
DTSTART:20260423
SUMMARY:Interment
DESCRIPTION:
URL:https://www.freemanfh.com/obituaries/kevin-pittman
LOCATION: 32 West Shady Grove Church Road  Waynesboro MS 39367
GEO:31.6977005;-88.7724135
END:VEVENT
END:VCALENDAR