BEGIN:VCALENDAR
VERSION:2.0
PRODID:-//Tukios.com/
BEGIN:VEVENT
UID:3ea56ded-bf7d-48b5-952f-0ded1860de77@www.freemanfh.com
DTSTAMP:20260421T223657Z
DTSTART:20260423T180000Z
DTEND:20260423T190000Z
SUMMARY:Funeral Service
DESCRIPTION:
URL:https://www.freemanfh.com/obituaries/kevin-pittman
LOCATION:Freeman Funeral Home 1305 Skyland Drive P. O. Box 387 Waynesboro 
	MS 39367
GEO:31.6863533;-88.6405723
END:VEVENT
END:VCALENDAR