BEGIN:VCALENDAR
VERSION:2.0
PRODID:-//Tukios.com/
BEGIN:VEVENT
UID:48ac2908-3b3b-41fc-bdfa-28fc742192cd@www.freemanfh.com
DTSTAMP:20260421T223646Z
DTSTART:20260423T170000Z
DTEND:20260423T180000Z
SUMMARY:Visitation
DESCRIPTION:
URL:https://www.freemanfh.com/obituaries/kevin-pittman
LOCATION:Freeman Funeral Home 1305 Skyland Drive P. O. Box 387 Waynesboro 
	MS 39367
GEO:31.6863533;-88.6405723
END:VEVENT
END:VCALENDAR