BEGIN:VCALENDAR
VERSION:2.0
PRODID:-//Tukios.com/
BEGIN:VEVENT
UID:092e3fe6-c7a2-4bfb-8cf9-ecb6d44f05be@www.freemanfh.com
DTSTAMP:20260423T190705Z
DTSTART:20260428T150000Z
DTEND:20260428T153000Z
SUMMARY:Graveside Service
DESCRIPTION:
URL:https://www.freemanfh.com/obituaries/herbert-knight-jr
LOCATION:Maynor Creek Cemetery 5418 US-84  Waynesboro MS 39367
GEO:31.6962176;-88.7773888
END:VEVENT
END:VCALENDAR