BEGIN:VCALENDAR
VERSION:2.0
PRODID:-//Tukios.com/
BEGIN:VEVENT
UID:5e0c868a-b824-4a22-9238-6e7681db7bdc@www.freemanfh.com
DTSTAMP:20260419T204907Z
DTSTART:20260420T200000Z
DTEND:20260420T210000Z
SUMMARY:Interment
DESCRIPTION:
URL:https://www.freemanfh.com/obituaries/david-carr
LOCATION:West Shady Grove Church Road W Shady Grove Church Rd  Waynesboro 
	MS 39367
GEO:31.6975763;-88.7720457
END:VEVENT
END:VCALENDAR