BEGIN:VCALENDAR
VERSION:2.0
PRODID:-//Tukios.com/
BEGIN:VEVENT
UID:4ee81679-9e4c-4491-8fef-d6399045febe@www.freemanfh.com
DTSTAMP:20260419T205402Z
DTSTART:20260420T200000Z
DTEND:20260420T210000Z
SUMMARY:Graveside Service
DESCRIPTION:
URL:https://www.freemanfh.com/obituaries/david-carr
LOCATION:West Shady Grove Church Road W Shady Grove Church Rd  Waynesboro 
	MS 39367
GEO:31.6975763;-88.7720457
END:VEVENT
END:VCALENDAR