BEGIN:VCALENDAR
VERSION:2.0
PRODID:-//Tukios.com/
BEGIN:VEVENT
UID:7872af0f-64f3-41d4-b9fb-43e2e0dec834@www.freemanfh.com
DTSTAMP:20260420T010101Z
DTSTART:20260425T200000Z
DTEND:20260425T203000Z
SUMMARY:Memorial Service
DESCRIPTION:
URL:https://www.freemanfh.com/obituaries/carla-atkinson-gatlin
LOCATION: 1305 Skyland Drive P. O. Box 387 Waynesboro MS 39367
GEO:31.6863533;-88.6405723
END:VEVENT
END:VCALENDAR