BEGIN:VCALENDAR
VERSION:2.0
PRODID:-//Tukios.com/
BEGIN:VEVENT
UID:620c02f6-637d-44c8-8bbb-fc59561cc3e0@www.freemanfh.com
DTSTAMP:20260420T010603Z
DTSTART:20260425T183000Z
DTEND:20260425T200000Z
SUMMARY:Visitation
DESCRIPTION:
URL:https://www.freemanfh.com/obituaries/carla-atkinson-gatlin
LOCATION: 1305 Skyland Drive P. O. Box 387 Waynesboro MS 39367
GEO:31.6863533;-88.6405723
END:VEVENT
END:VCALENDAR